BEGIN:VCALENDAR
VERSION:2.0
PRODID:-//Real Business Connections Networking Group - ECPv6.15.20//NONSGML v1.0//EN
CALSCALE:GREGORIAN
METHOD:PUBLISH
X-ORIGINAL-URL:https://rbcng.com.au
X-WR-CALDESC:Events for Real Business Connections Networking Group
REFRESH-INTERVAL;VALUE=DURATION:PT1H
X-Robots-Tag:noindex
X-PUBLISHED-TTL:PT1H
BEGIN:VTIMEZONE
TZID:Australia/Brisbane
BEGIN:STANDARD
TZOFFSETFROM:+1000
TZOFFSETTO:+1000
TZNAME:AEST
DTSTART:20250101T000000
END:STANDARD
END:VTIMEZONE
BEGIN:VEVENT
DTSTART;TZID=Australia/Brisbane:20260311T070000
DTEND;TZID=Australia/Brisbane:20260311T203000
DTSTAMP:20260421T194747
CREATED:20260210T231256Z
LAST-MODIFIED:20260210T231256Z
UID:3211-1773212400-1773261000@rbcng.com.au
SUMMARY:Hanzel Hizola\, Insolvency Expert
DESCRIPTION:We’re pleased to welcome Hanzel Hizola from Jirsch Sutherland – Insolvency Solutions for our upcoming presentation. Hanzel will provide a timely insolvency update\, outline current ATO recovery options\, and conclude with a practical overview of small business restructuring. This session will offer valuable insights for business owners and advisors navigating financial pressure and looking for proactive solutions.
URL:https://rbcng.com.au/event/hanzel-hizola-insolvency-expert/
LOCATION:Meadowbrook Golf Course\, Golf Course Drive\, Meadowbrook\, QLD\, 4131\, Australia
END:VEVENT
BEGIN:VEVENT
DTSTART;TZID=Australia/Brisbane:20260325T070000
DTEND;TZID=Australia/Brisbane:20260325T203000
DTSTAMP:20260421T194747
CREATED:20260211T001045Z
LAST-MODIFIED:20260211T001224Z
UID:3213-1774422000-1774470600@rbcng.com.au
SUMMARY:Financial Advice from Anna Oudendijk - FMD Financial
DESCRIPTION:We’re pleased to welcome Anna Oudendijk\, Financial Adviser from FMD Financial\, as our upcoming guest speaker. With over 20 years’ experience in the financial services industry\, Anna brings a wealth of knowledge and a genuine passion for improving the financial wellbeing of her clients. She will share insights across a broad range of financial matters\, including wealth creation\, superannuation\, personal insurance\, and pre- and post-retirement planning\, with specialist knowledge in Centrelink\, DVA\, and Aged Care. This session will offer valuable guidance for individuals and business owners seeking clarity\, confidence\, and long-term financial security.
URL:https://rbcng.com.au/event/anna-oudendijk-financial-adviser-from-fmd-financial/
LOCATION:Meadowbrook Golf Course\, Golf Course Drive\, Meadowbrook\, QLD\, 4131\, Australia
END:VEVENT
END:VCALENDAR